BEGIN:VCALENDAR
BEGIN:VEVENT
SUMMARY:Zahnprophylaxe für alle Klassen
DTSTART;VALUE=DATE:20251029
DTEND;VALUE=DATE:20251029
UID:terminkalender-event_1755795598_7007024.html
ORGANIZER:mailto:s_7373@bildung.hessen.de
END:VEVENT
BEGIN:VEVENT
SUMMARY:Zahnprophylaxe für alle Klassen
DTSTART;VALUE=DATE:20251031
DTEND;VALUE=DATE:20251031
UID:terminkalender-event_1755795605_2806704.html
ORGANIZER:mailto:s_7373@bildung.hessen.de
END:VEVENT
BEGIN:VEVENT
SUMMARY:Sitzkissenkonzert in großer Halle (Bitte eigenes Sitzkissen mitbr
 ingen!)
DTSTART;VALUE=DATE:20251219
DTEND;VALUE=DATE:20251219
UID:terminkalender-event_1755795674_6192412.html
ORGANIZER:mailto:s_7373@bildung.hessen.de
END:VEVENT
BEGIN:VEVENT
SUMMARY:Ende 1. Halbjahr\, Zeugnisausgabe Klassen 3 und 4
DTSTART;VALUE=DATE:20260130
DTEND;VALUE=DATE:20260130
UID:terminkalender-event_1755795718_2284732.html
ORGANIZER:mailto:s_7373@bildung.hessen.de
END:VEVENT
BEGIN:VEVENT
SUMMARY:Abgabe Bilder Malwettbewerb "jugend creativ"
DTSTART;VALUE=DATE:20260206
DTEND;VALUE=DATE:20260206
UID:terminkalender-event_1769664901_608822.html
ORGANIZER:mailto:s_7373@bildung.hessen.de
END:VEVENT
BEGIN:VEVENT
SUMMARY:Fasching in der Schule
DTSTART;VALUE=DATE:20260213
DTEND;VALUE=DATE:20260213
UID:terminkalender-event_1755795739_2587512.html
ORGANIZER:mailto:s_7373@bildung.hessen.de
END:VEVENT
BEGIN:VEVENT
SUMMARY:Tischtennistag Klasse 3 und 4
DTSTART;VALUE=DATE:20260223
DTEND;VALUE=DATE:20260223
UID:terminkalender-event_1769664924_2749367.html
ORGANIZER:mailto:s_7373@bildung.hessen.de
END:VEVENT
BEGIN:VEVENT
SUMMARY:Vorlesewettbewerb
DTSTART;VALUE=DATE:20260225
DTEND;VALUE=DATE:20260225
UID:terminkalender-event_1769664940_158299.html
ORGANIZER:mailto:s_7373@bildung.hessen.de
END:VEVENT
BEGIN:VEVENT
SUMMARY:Fahrradschule
DTSTART;VALUE=DATE:20260302
DTEND;VALUE=DATE:20260306
UID:terminkalender-event_1755795788_237164.html
ORGANIZER:mailto:s_7373@bildung.hessen.de
END:VEVENT
BEGIN:VEVENT
SUMMARY:Schwimmwettkampf (Klasse 3 und 4\, ausgewählte Kinder)
DTSTART;VALUE=DATE:20260305
DTEND;VALUE=DATE:20260305
UID:terminkalender-event_1755795824_153026.html
ORGANIZER:mailto:s_7373@bildung.hessen.de
END:VEVENT
BEGIN:VEVENT
SUMMARY:Fahrradschule
DTSTART;VALUE=DATE:20260309
DTEND;VALUE=DATE:20260311
UID:terminkalender-event_1755795766_2302568.html
ORGANIZER:mailto:s_7373@bildung.hessen.de
END:VEVENT
BEGIN:VEVENT
SUMMARY:Schulanmeldung
DTSTART:20260316T133000
DTEND:20260316T150000
UID:terminkalender-event_1770042776_146538.html
ORGANIZER:mailto:s_7373@bildung.hessen.de
END:VEVENT
BEGIN:VEVENT
SUMMARY:Bewegungscheck Klasse 2a/b
DTSTART:20260318T103000
DTEND:20260318T123000
UID:terminkalender-event_1769665048_7979074.html
ORGANIZER:mailto:s_7373@bildung.hessen.de
END:VEVENT
BEGIN:VEVENT
SUMMARY:Bewegungscheck Klasse 2c/d
DTSTART:20260318T123000
DTEND:20260318T143000
UID:terminkalender-event_1769665078_307608.html
ORGANIZER:mailto:s_7373@bildung.hessen.de
END:VEVENT
BEGIN:VEVENT
SUMMARY:Ball übers Netz-Turnier Klasse 3 und 4
DTSTART;VALUE=DATE:20260325
DTEND;VALUE=DATE:20260325
UID:terminkalender-event_1769665227_5947452.html
ORGANIZER:mailto:s_7373@bildung.hessen.de
END:VEVENT
BEGIN:VEVENT
SUMMARY:Schmücken Osterbrunnen
DTSTART;VALUE=DATE:20260326
DTEND;VALUE=DATE:20260326
UID:terminkalender-event_1770042810_8484929.html
ORGANIZER:mailto:s_7373@bildung.hessen.de
END:VEVENT
BEGIN:VEVENT
SUMMARY:Lernstandserhebungen Klasse 3 Deutsch Teil 1
DTSTART;VALUE=DATE:20260427
DTEND;VALUE=DATE:20260427
UID:terminkalender-event_1724705458_9510758.html
ORGANIZER:mailto:s_7373@bildung.hessen.de
END:VEVENT
BEGIN:VEVENT
SUMMARY:Lernstandserhebungen Klasse 3 Mathe Teil 1
DTSTART;VALUE=DATE:20260429
DTEND;VALUE=DATE:20260429
UID:terminkalender-event_1724705472_3661687.html
ORGANIZER:mailto:s_7373@bildung.hessen.de
END:VEVENT
BEGIN:VEVENT
SUMMARY:Lernstandserhebungen Klasse 3 Deutsch Teil 2
DTSTART;VALUE=DATE:20260504
DTEND;VALUE=DATE:20260504
UID:terminkalender-event_1724705482_9234858.html
ORGANIZER:mailto:s_7373@bildung.hessen.de
END:VEVENT
BEGIN:VEVENT
SUMMARY:Lernstandserhebungen Klasse 3 Mathe Teil 2
DTSTART;VALUE=DATE:20260506
DTEND;VALUE=DATE:20260506
UID:terminkalender-event_1724705508_73829.html
ORGANIZER:mailto:s_7373@bildung.hessen.de
END:VEVENT
BEGIN:VEVENT
SUMMARY:Klassenfahrt 3b und 3c nach Rodholz
DTSTART;VALUE=DATE:20260511
DTEND;VALUE=DATE:20260513
UID:terminkalender-event_1770042862_0306833.html
ORGANIZER:mailto:s_7373@bildung.hessen.de
END:VEVENT
BEGIN:VEVENT
SUMMARY:Bundesjugendspiele
DTSTART;VALUE=DATE:20260522
DTEND;VALUE=DATE:20260522
UID:terminkalender-event_1755795993_4140303.html
ORGANIZER:mailto:s_7373@bildung.hessen.de
END:VEVENT
BEGIN:VEVENT
SUMMARY:Zahnärztliche Reihenuntersuchung VKL\, Kl.1 und Kl.3
DTSTART;VALUE=DATE:20260528
DTEND;VALUE=DATE:20260528
UID:terminkalender-event_1769665304_0128324.html
ORGANIZER:mailto:s_7373@bildung.hessen.de
END:VEVENT
BEGIN:VEVENT
SUMMARY:Klassenfahrt 4a\, 4b und 4c nach Alsfeld
DTSTART;VALUE=DATE:20260601
DTEND;VALUE=DATE:20260603
UID:terminkalender-event_1770042901_8406608.html
ORGANIZER:mailto:s_7373@bildung.hessen.de
END:VEVENT
BEGIN:VEVENT
SUMMARY:Tag des Handwerks Klasse 4 in Kooperation mit der Konrad-Zuse-Schu
 le
DTSTART;VALUE=DATE:20260608
DTEND;VALUE=DATE:20260608
UID:terminkalender-event_1769665411_4790535.html
ORGANIZER:mailto:s_7373@bildung.hessen.de
END:VEVENT
BEGIN:VEVENT
SUMMARY:Leichtathletikwettkampf (nur ausgewählte Kinder)
DTSTART;VALUE=DATE:20260610
DTEND;VALUE=DATE:20260610
UID:terminkalender-event_1769665383_7636757.html
ORGANIZER:mailto:s_7373@bildung.hessen.de
END:VEVENT
BEGIN:VEVENT
SUMMARY:Fußballturnier Klasse 2 (ausgewählte Kinder)
DTSTART;VALUE=DATE:20260618
DTEND;VALUE=DATE:20260618
UID:terminkalender-event_1770042979_1085727.html
ORGANIZER:mailto:s_7373@bildung.hessen.de
END:VEVENT
BEGIN:VEVENT
SUMMARY:Zahnärztliche Reihenuntersuchung VKL\, Kl.1 und Kl.3
DTSTART;VALUE=DATE:20260619
DTEND;VALUE=DATE:20260619
UID:terminkalender-event_1769665423_3649704.html
ORGANIZER:mailto:s_7373@bildung.hessen.de
END:VEVENT
BEGIN:VEVENT
SUMMARY:Zahnärztliche Reihenuntersuchung VKL\, Kl.1 und Kl.3
DTSTART;VALUE=DATE:20260622
DTEND;VALUE=DATE:20260622
UID:terminkalender-event_1769665433_4041367.html
ORGANIZER:mailto:s_7373@bildung.hessen.de
END:VEVENT
BEGIN:VEVENT
SUMMARY:letzter Schultag und Zeugnisausgabe
DTSTART;VALUE=DATE:20260626
DTEND;VALUE=DATE:20260626
UID:terminkalender-event_1755796053_4911134.html
ORGANIZER:mailto:s_7373@bildung.hessen.de
END:VEVENT
END:VCALENDAR
